BEGIN:VCALENDAR
VERSION:2.0
PRODID:-//ical.marudot.com//iCal Event Maker
X-WR-CALNAME:EMERGENCY ONLINE EVENT - Coronavirus: Your Questions Answered
NAME:EMERGENCY ONLINE EVENT - Coronavirus: Your Questions Answered
CALSCALE:GREGORIAN
BEGIN:VTIMEZONE
TZID:Europe/London
TZURL:http://tzurl.org/zoneinfo-outlook/Europe/London
X-LIC-LOCATION:Europe/London
BEGIN:DAYLIGHT
TZOFFSETFROM:+0000
TZOFFSETTO:+0100
TZNAME:BST
DTSTART:19700329T010000
RRULE:FREQ=YEARLY;BYMONTH=3;BYDAY=-1SU
END:DAYLIGHT
BEGIN:STANDARD
TZOFFSETFROM:+0100
TZOFFSETTO:+0000
TZNAME:GMT
DTSTART:19701025T020000
RRULE:FREQ=YEARLY;BYMONTH=10;BYDAY=-1SU
END:STANDARD
END:VTIMEZONE
BEGIN:VEVENT
DTSTAMP:20200317T181511Z
UID:20200317T181511Z-287213582@marudot.com
DTSTART;TZID=Europe/London:20200319T190000
DTEND;TZID=Europe/London:20200319T203000
SUMMARY:EMERGENCY ONLINE EVENT - Coronavirus: Your Questions Answered
URL:https%3A%2F%2Fshindig.com%2Flogin%2Fevent%2Fcoronavirus-your-questions-answered
LOCATION:Shindig
END:VEVENT
END:VCALENDAR